BEGIN:VCALENDAR
VERSION:2.0
PRODID:-//Les Feux Follets - ECPv6.15.20//NONSGML v1.0//EN
CALSCALE:GREGORIAN
METHOD:PUBLISH
X-WR-CALNAME:Les Feux Follets
X-ORIGINAL-URL:https://phenylcetonurie.org
X-WR-CALDESC:Évènements pour Les Feux Follets
REFRESH-INTERVAL;VALUE=DURATION:PT1H
X-Robots-Tag:noindex
X-PUBLISHED-TTL:PT1H
BEGIN:VTIMEZONE
TZID:Europe/Paris
BEGIN:DAYLIGHT
TZOFFSETFROM:+0100
TZOFFSETTO:+0200
TZNAME:CEST
DTSTART:20230326T010000
END:DAYLIGHT
BEGIN:STANDARD
TZOFFSETFROM:+0200
TZOFFSETTO:+0100
TZNAME:CET
DTSTART:20231029T010000
END:STANDARD
BEGIN:DAYLIGHT
TZOFFSETFROM:+0100
TZOFFSETTO:+0200
TZNAME:CEST
DTSTART:20240331T010000
END:DAYLIGHT
BEGIN:STANDARD
TZOFFSETFROM:+0200
TZOFFSETTO:+0100
TZNAME:CET
DTSTART:20241027T010000
END:STANDARD
BEGIN:DAYLIGHT
TZOFFSETFROM:+0100
TZOFFSETTO:+0200
TZNAME:CEST
DTSTART:20250330T010000
END:DAYLIGHT
BEGIN:STANDARD
TZOFFSETFROM:+0200
TZOFFSETTO:+0100
TZNAME:CET
DTSTART:20251026T010000
END:STANDARD
END:VTIMEZONE
BEGIN:VEVENT
DTSTART;VALUE=DATE:20240413
DTEND;VALUE=DATE:20240415
DTSTAMP:20260424T122607
CREATED:20240319T065233Z
LAST-MODIFIED:20240319T065233Z
UID:19790-1712966400-1713139199@phenylcetonurie.org
SUMMARY:Week-end Festif à Roche-en-Forez
DESCRIPTION:
URL:https://phenylcetonurie.org/calendrier/week-end-festif-a-roche-en-forez/
CATEGORIES:Action bénévole,Rencontres
ATTACH;FMTTYPE=image/jpeg:https://phenylcetonurie.org/WordPress3/wp-content/uploads/2024/03/431267033_10223752822345415_7495827658104169647_n.jpg
END:VEVENT
END:VCALENDAR